BEGIN:VCALENDAR
VERSION:2.0
PRODID:-//Episcopal Church of the Good Shepherd - ECPv6.15.12.2//NONSGML v1.0//EN
CALSCALE:GREGORIAN
METHOD:PUBLISH
X-WR-CALNAME:Episcopal Church of the Good Shepherd
X-ORIGINAL-URL:https://goodshepsilver.org
X-WR-CALDESC:Events for Episcopal Church of the Good Shepherd
REFRESH-INTERVAL;VALUE=DURATION:PT1H
X-Robots-Tag:noindex
X-PUBLISHED-TTL:PT1H
BEGIN:VTIMEZONE
TZID:America/Denver
BEGIN:DAYLIGHT
TZOFFSETFROM:-0700
TZOFFSETTO:-0600
TZNAME:MDT
DTSTART:20230312T090000
END:DAYLIGHT
BEGIN:STANDARD
TZOFFSETFROM:-0600
TZOFFSETTO:-0700
TZNAME:MST
DTSTART:20231105T080000
END:STANDARD
BEGIN:DAYLIGHT
TZOFFSETFROM:-0700
TZOFFSETTO:-0600
TZNAME:MDT
DTSTART:20240310T090000
END:DAYLIGHT
BEGIN:STANDARD
TZOFFSETFROM:-0600
TZOFFSETTO:-0700
TZNAME:MST
DTSTART:20241103T080000
END:STANDARD
BEGIN:DAYLIGHT
TZOFFSETFROM:-0700
TZOFFSETTO:-0600
TZNAME:MDT
DTSTART:20250309T090000
END:DAYLIGHT
BEGIN:STANDARD
TZOFFSETFROM:-0600
TZOFFSETTO:-0700
TZNAME:MST
DTSTART:20251102T080000
END:STANDARD
END:VTIMEZONE
BEGIN:VEVENT
DTSTART;TZID=America/Denver:20240414T113000
DTEND;TZID=America/Denver:20240414T140000
DTSTAMP:20260419T174146
CREATED:20240411T202442Z
LAST-MODIFIED:20240411T202442Z
UID:6151-1713094200-1713103200@goodshepsilver.org
SUMMARY:Book Discussion
DESCRIPTION:Book Discussion-11:30
URL:https://goodshepsilver.org/event/book-discussion-4/
LOCATION:Church of the Good Shepherd\, 615 N Texas Street\, Silver City\, NM\, 88062\, United States
END:VEVENT
BEGIN:VEVENT
DTSTART;TZID=America/Denver:20240414T093000
DTEND;TZID=America/Denver:20240414T110000
DTSTAMP:20260419T174146
CREATED:20240411T202241Z
LAST-MODIFIED:20240411T202241Z
UID:6149-1713087000-1713092400@goodshepsilver.org
SUMMARY:HEII
DESCRIPTION:HEII-9:30 AM
URL:https://goodshepsilver.org/event/heii/
LOCATION:Church of the Good Shepherd\, 615 N Texas Street\, Silver City\, NM\, 88062\, United States
END:VEVENT
BEGIN:VEVENT
DTSTART;TZID=America/Denver:20240414T093000
DTEND;TZID=America/Denver:20240414T103000
DTSTAMP:20260419T174146
CREATED:20240411T193754Z
LAST-MODIFIED:20240411T193754Z
UID:6127-1713087000-1713090600@goodshepsilver.org
SUMMARY:Holy Eucharist Rite II
DESCRIPTION:
URL:https://goodshepsilver.org/event/holy-eucharist-rite-ii-7/
LOCATION:Church of the Good Shepherd\, 615 N Texas Street\, Silver City\, NM\, 88062\, United States
END:VEVENT
BEGIN:VEVENT
DTSTART;TZID=America/Denver:20240413T090000
DTEND;TZID=America/Denver:20240413T130000
DTSTAMP:20260419T174146
CREATED:20240411T201911Z
LAST-MODIFIED:20240411T201911Z
UID:6147-1712998800-1713013200@goodshepsilver.org
SUMMARY:Garage Sale
DESCRIPTION:Garage Sale 9:00 AM 1:00 PM
URL:https://goodshepsilver.org/event/garage-sale-2/
LOCATION:Church of the Good Shepherd\, 615 N Texas Street\, Silver City\, NM\, 88062\, United States
END:VEVENT
BEGIN:VEVENT
DTSTART;TZID=America/Denver:20240411T171500
DTEND;TZID=America/Denver:20240411T183000
DTSTAMP:20260419T174146
CREATED:20240411T201501Z
LAST-MODIFIED:20240411T201545Z
UID:6145-1712855700-1712860200@goodshepsilver.org
SUMMARY:OEA
DESCRIPTION:OEA-5:15 PM
URL:https://goodshepsilver.org/event/oea/
LOCATION:Church of the Good Shepherd\, 615 N Texas Street\, Silver City\, NM\, 88062\, United States
END:VEVENT
BEGIN:VEVENT
DTSTART;TZID=America/Denver:20240411T130000
DTEND;TZID=America/Denver:20240411T140000
DTSTAMP:20260419T174146
CREATED:20240411T201320Z
LAST-MODIFIED:20240411T201320Z
UID:6143-1712840400-1712844000@goodshepsilver.org
SUMMARY:Choir Rehearsal
DESCRIPTION:Choir Rehearsal-1-2:00 PM
URL:https://goodshepsilver.org/event/choir-rehearsal/
LOCATION:Church of the Good Shepherd\, 615 N Texas Street\, Silver City\, NM\, 88062\, United States
END:VEVENT
BEGIN:VEVENT
DTSTART;TZID=America/Denver:20240411T120000
DTEND;TZID=America/Denver:20240411T130000
DTSTAMP:20260419T174146
CREATED:20240411T201113Z
LAST-MODIFIED:20240411T201113Z
UID:6141-1712836800-1712840400@goodshepsilver.org
SUMMARY:Caretakers
DESCRIPTION:Caretakers-12-1 PM
URL:https://goodshepsilver.org/event/caretakers/
LOCATION:Church of the Good Shepherd\, 615 N Texas Street\, Silver City\, NM\, 88062\, United States
END:VEVENT
BEGIN:VEVENT
DTSTART;TZID=America/Denver:20240402T170000
DTEND;TZID=America/Denver:20240402T190000
DTSTAMP:20260419T174146
CREATED:20240411T200844Z
LAST-MODIFIED:20240411T200844Z
UID:6139-1712077200-1712084400@goodshepsilver.org
SUMMARY:Coda
DESCRIPTION:Coda-5:00-7:00 PM
URL:https://goodshepsilver.org/event/coda/
LOCATION:Church of the Good Shepherd\, 615 N Texas Street\, Silver City\, NM\, 88062\, United States
END:VEVENT
BEGIN:VEVENT
DTSTART;TZID=America/Denver:20240331T063000
DTEND;TZID=America/Denver:20240331T073000
DTSTAMP:20260419T174146
CREATED:20240301T225958Z
LAST-MODIFIED:20240301T225958Z
UID:6062-1711866600-1711870200@goodshepsilver.org
SUMMARY:Sunrise Service - Easter Sunday
DESCRIPTION:
URL:https://goodshepsilver.org/event/sunrise-service-easter-sunday/
LOCATION:Church of the Good Shepherd\, 615 N Texas Street\, Silver City\, NM\, 88062\, United States
END:VEVENT
BEGIN:VEVENT
DTSTART;TZID=America/Denver:20240330T190000
DTEND;TZID=America/Denver:20240330T200000
DTSTAMP:20260419T174146
CREATED:20240301T230708Z
LAST-MODIFIED:20240301T230708Z
UID:6072-1711825200-1711828800@goodshepsilver.org
SUMMARY:Easter Vigil
DESCRIPTION:
URL:https://goodshepsilver.org/event/easter-vigil/
LOCATION:Church of the Good Shepherd\, 615 N Texas Street\, Silver City\, NM\, 88062\, United States
END:VEVENT
BEGIN:VEVENT
DTSTART;TZID=America/Denver:20240329T170000
DTEND;TZID=America/Denver:20240329T180000
DTSTAMP:20260419T174146
CREATED:20240301T230526Z
LAST-MODIFIED:20240301T230526Z
UID:6070-1711731600-1711735200@goodshepsilver.org
SUMMARY:Good Friday Afternoon Service
DESCRIPTION:
URL:https://goodshepsilver.org/event/good-friday-afternoon-service/
LOCATION:Church of the Good Shepherd\, 615 N Texas Street\, Silver City\, NM\, 88062\, United States
END:VEVENT
BEGIN:VEVENT
DTSTART;TZID=America/Denver:20240329T080000
DTEND;TZID=America/Denver:20240329T170000
DTSTAMP:20260419T174146
CREATED:20240301T230434Z
LAST-MODIFIED:20240301T230434Z
UID:6068-1711699200-1711731600@goodshepsilver.org
SUMMARY:Good Friday Noon Service
DESCRIPTION:
URL:https://goodshepsilver.org/event/good-friday-noon-service/
LOCATION:Church of the Good Shepherd\, 615 N Texas Street\, Silver City\, NM\, 88062\, United States
END:VEVENT
BEGIN:VEVENT
DTSTART;TZID=America/Denver:20240328T190000
DTEND;TZID=America/Denver:20240328T200000
DTSTAMP:20260419T174146
CREATED:20240301T230346Z
LAST-MODIFIED:20240301T230346Z
UID:6066-1711652400-1711656000@goodshepsilver.org
SUMMARY:Maundy Thursday Liturgy
DESCRIPTION:
URL:https://goodshepsilver.org/event/maundy-thursday-liturgy/
LOCATION:Church of the Good Shepherd\, 615 N Texas Street\, Silver City\, NM\, 88062\, United States
END:VEVENT
BEGIN:VEVENT
DTSTART;TZID=America/Denver:20240328T171500
DTEND;TZID=America/Denver:20240328T181500
DTSTAMP:20260419T174146
CREATED:20240126T211312Z
LAST-MODIFIED:20240301T230302Z
UID:5920-1711646100-1711649700@goodshepsilver.org
SUMMARY:OEA - Church Hall in Use for Private Meeting
DESCRIPTION:
URL:https://goodshepsilver.org/event/oea-2/
LOCATION:Church of the Good Shepherd\, 615 N Texas Street\, Silver City\, NM\, 88062\, United States
END:VEVENT
BEGIN:VEVENT
DTSTART;TZID=America/Denver:20240328T140000
DTEND;TZID=America/Denver:20240328T150000
DTSTAMP:20260419T174146
CREATED:20240104T211548Z
LAST-MODIFIED:20240301T230230Z
UID:5328-1711634400-1711638000@goodshepsilver.org
SUMMARY:Worship Choir Practice
DESCRIPTION:
URL:https://goodshepsilver.org/event/choir-practice-200-pm/
LOCATION:Church of the Good Shepherd\, 615 N Texas Street\, Silver City\, NM\, 88062\, United States
END:VEVENT
BEGIN:VEVENT
DTSTART;TZID=America/Denver:20240327T120500
DTEND;TZID=America/Denver:20240327T130500
DTSTAMP:20260419T174146
CREATED:20240104T211502Z
LAST-MODIFIED:20240301T230058Z
UID:5326-1711541100-1711544700@goodshepsilver.org
SUMMARY:Eucharist followed by Lunch
DESCRIPTION:
URL:https://goodshepsilver.org/event/eucharist-followed-by-lunch-1205-pm/
LOCATION:Church of the Good Shepherd\, 615 N Texas Street\, Silver City\, NM\, 88062\, United States
END:VEVENT
BEGIN:VEVENT
DTSTART;TZID=America/Denver:20240326T170000
DTEND;TZID=America/Denver:20240326T190000
DTSTAMP:20260419T174146
CREATED:20240301T225820Z
LAST-MODIFIED:20240301T225820Z
UID:6060-1711472400-1711479600@goodshepsilver.org
SUMMARY:CODA - Church Hall in use for Private meeting
DESCRIPTION:
URL:https://goodshepsilver.org/event/coda-church-hall-in-use-for-private-meeting-2/
LOCATION:Church of the Good Shepherd\, 615 N Texas Street\, Silver City\, NM\, 88062\, United States
END:VEVENT
BEGIN:VEVENT
DTSTART;TZID=America/Denver:20240324T093000
DTEND;TZID=America/Denver:20240324T103000
DTSTAMP:20260419T174146
CREATED:20240126T212303Z
LAST-MODIFIED:20240301T225422Z
UID:5930-1711272600-1711276200@goodshepsilver.org
SUMMARY:Holy Eucharist Rite II
DESCRIPTION:
URL:https://goodshepsilver.org/event/holy-eucharist-rite-ii-2/
LOCATION:Church of the Good Shepherd\, 615 N Texas Street\, Silver City\, NM\, 88062\, United States
END:VEVENT
BEGIN:VEVENT
DTSTART;VALUE=DATE:20240324
DTEND;VALUE=DATE:20240325
DTSTAMP:20260419T174146
CREATED:20240301T225521Z
LAST-MODIFIED:20240301T225521Z
UID:6054-1711238400-1711324799@goodshepsilver.org
SUMMARY:Palm Sunday
DESCRIPTION:
URL:https://goodshepsilver.org/event/palm-sunday/
LOCATION:NM
END:VEVENT
BEGIN:VEVENT
DTSTART;TZID=America/Denver:20240321T171500
DTEND;TZID=America/Denver:20240321T181500
DTSTAMP:20260419T174146
CREATED:20240126T211401Z
LAST-MODIFIED:20240301T225254Z
UID:5922-1711041300-1711044900@goodshepsilver.org
SUMMARY:OEA - Church Hall in Use for Private Meeting
DESCRIPTION:
URL:https://goodshepsilver.org/event/oea-3/
LOCATION:Church of the Good Shepherd\, 615 N Texas Street\, Silver City\, NM\, 88062\, United States
END:VEVENT
BEGIN:VEVENT
DTSTART;TZID=America/Denver:20240321T140000
DTEND;TZID=America/Denver:20240321T150000
DTSTAMP:20260419T174146
CREATED:20240126T174453Z
LAST-MODIFIED:20240301T225219Z
UID:5889-1711029600-1711033200@goodshepsilver.org
SUMMARY:Worship Choir Practice
DESCRIPTION:
URL:https://goodshepsilver.org/event/worship-choir-practice/
LOCATION:Church of the Good Shepherd\, 615 N Texas Street\, Silver City\, NM\, 88062\, United States
END:VEVENT
BEGIN:VEVENT
DTSTART;TZID=America/Denver:20240321T113000
DTEND;TZID=America/Denver:20240321T123000
DTSTAMP:20260419T174146
CREATED:20240421T215610Z
LAST-MODIFIED:20240411T194923Z
UID:6056-1711020600-1711024200@goodshepsilver.org
SUMMARY:Book Study
DESCRIPTION:Book Study \n 
URL:https://goodshepsilver.org/event/book-study-4/
LOCATION:Church of the Good Shepherd\, 615 N Texas Street\, Silver City\, NM\, 88062\, United States
END:VEVENT
BEGIN:VEVENT
DTSTART;TZID=America/Denver:20240320T120500
DTEND;TZID=America/Denver:20240320T130500
DTSTAMP:20260419T174146
CREATED:20240126T211707Z
LAST-MODIFIED:20240301T225131Z
UID:5928-1710936300-1710939900@goodshepsilver.org
SUMMARY:Taizé Service - followed by lunch
DESCRIPTION:
URL:https://goodshepsilver.org/event/taize-service-followed-by-lunch/
LOCATION:Church of the Good Shepherd\, 615 N Texas Street\, Silver City\, NM\, 88062\, United States
END:VEVENT
BEGIN:VEVENT
DTSTART;TZID=America/Denver:20240319T170000
DTEND;TZID=America/Denver:20240319T190000
DTSTAMP:20260419T174146
CREATED:20240301T224959Z
LAST-MODIFIED:20240301T224959Z
UID:6048-1710867600-1710874800@goodshepsilver.org
SUMMARY:CODA - Church Hall in use for Private meeting
DESCRIPTION:
URL:https://goodshepsilver.org/event/coda-church-hall-in-use-for-private-meeting/
LOCATION:Church of the Good Shepherd\, 615 N Texas Street\, Silver City\, NM\, 88062\, United States
END:VEVENT
BEGIN:VEVENT
DTSTART;TZID=America/Denver:20240319T130000
DTEND;TZID=America/Denver:20240319T140000
DTSTAMP:20260419T174146
CREATED:20240126T173923Z
LAST-MODIFIED:20240301T225046Z
UID:5883-1710853200-1710856800@goodshepsilver.org
SUMMARY:Worship Committee
DESCRIPTION:
URL:https://goodshepsilver.org/event/worship-committee/
LOCATION:Church of the Good Shepherd\, 615 N Texas Street\, Silver City\, NM\, 88062\, United States
END:VEVENT
BEGIN:VEVENT
DTSTART;TZID=America/Denver:20240319T150000
DTEND;TZID=America/Denver:20240319T150000
DTSTAMP:20260419T174146
CREATED:20240301T224906Z
LAST-MODIFIED:20240308T175818Z
UID:6046-1710860400-1710860400@goodshepsilver.org
SUMMARY:Vestry Meeting
DESCRIPTION:
URL:https://goodshepsilver.org/event/vestry-meeting/
LOCATION:Church of the Good Shepherd\, 615 N Texas Street\, Silver City\, NM\, 88062\, United States
END:VEVENT
BEGIN:VEVENT
DTSTART;TZID=America/Denver:20240317T113000
DTEND;TZID=America/Denver:20240317T123000
DTSTAMP:20260419T174146
CREATED:20240301T224716Z
LAST-MODIFIED:20240301T224716Z
UID:6042-1710675000-1710678600@goodshepsilver.org
SUMMARY:Book Study
DESCRIPTION:Book Study \nOur after-coffee hour book study will be beginning a new book soon. We will be studying Dietrich Bonhoeffer’s Cost of Discipleship. Bonhoeffer was a Lutheran pastor and a leader of the Confessing Church in Germany during WWII. The Confessing Church refused to support the Nazi regime\, and although Bonhoeffer originally fled Germany for safety\, he returned to play an active role in opposition to the Nazis. We will be showing a film biography of Bonhoeffer on 3/10 and start reading his book next week. Classes usually begin at 11:30 AM\, and all are welcome.
URL:https://goodshepsilver.org/event/book-study-3/
LOCATION:Church of the Good Shepherd\, 615 N Texas Street\, Silver City\, NM\, 88062\, United States
END:VEVENT
BEGIN:VEVENT
DTSTART;TZID=America/Denver:20240317T093000
DTEND;TZID=America/Denver:20240317T103000
DTSTAMP:20260419T174146
CREATED:20240201T182258Z
LAST-MODIFIED:20240301T224540Z
UID:5945-1710667800-1710671400@goodshepsilver.org
SUMMARY:Holy Eucharist Rite II
DESCRIPTION:
URL:https://goodshepsilver.org/event/holy-eucharist-rite-ii-3/
LOCATION:Church of the Good Shepherd\, 615 N Texas Street\, Silver City\, NM\, 88062\, United States
END:VEVENT
BEGIN:VEVENT
DTSTART;VALUE=DATE:20240317
DTEND;VALUE=DATE:20240318
DTSTAMP:20260419T174146
CREATED:20240301T224621Z
LAST-MODIFIED:20240301T224621Z
UID:6040-1710633600-1710719999@goodshepsilver.org
SUMMARY:Saint Patrick's Day
DESCRIPTION:
URL:https://goodshepsilver.org/event/saint-patricks-day/
LOCATION:NM
END:VEVENT
BEGIN:VEVENT
DTSTART;TZID=America/Denver:20240315T120000
DTEND;TZID=America/Denver:20240315T130000
DTSTAMP:20260419T174146
CREATED:20240301T224458Z
LAST-MODIFIED:20240301T224458Z
UID:6038-1710504000-1710507600@goodshepsilver.org
SUMMARY:Stations of the Cross
DESCRIPTION:We will be providing the opportunity during Lent for people to pray the Stations of the Cross\, on Fridays in the Church\, at Noon.  There will be someone present to lead the meditation each week from now until Good Friday. \n 
URL:https://goodshepsilver.org/event/stations-of-the-cross-3/
LOCATION:Church of the Good Shepherd\, 615 N Texas Street\, Silver City\, NM\, 88062\, United States
END:VEVENT
END:VCALENDAR