BEGIN:VCALENDAR
VERSION:2.0
PRODID:-//Episcopal Church of the Good Shepherd - ECPv6.15.12.2//NONSGML v1.0//EN
CALSCALE:GREGORIAN
METHOD:PUBLISH
X-ORIGINAL-URL:https://goodshepsilver.org
X-WR-CALDESC:Events for Episcopal Church of the Good Shepherd
REFRESH-INTERVAL;VALUE=DURATION:PT1H
X-Robots-Tag:noindex
X-PUBLISHED-TTL:PT1H
BEGIN:VTIMEZONE
TZID:America/Denver
BEGIN:DAYLIGHT
TZOFFSETFROM:-0700
TZOFFSETTO:-0600
TZNAME:MDT
DTSTART:20230312T090000
END:DAYLIGHT
BEGIN:STANDARD
TZOFFSETFROM:-0600
TZOFFSETTO:-0700
TZNAME:MST
DTSTART:20231105T080000
END:STANDARD
BEGIN:DAYLIGHT
TZOFFSETFROM:-0700
TZOFFSETTO:-0600
TZNAME:MDT
DTSTART:20240310T090000
END:DAYLIGHT
BEGIN:STANDARD
TZOFFSETFROM:-0600
TZOFFSETTO:-0700
TZNAME:MST
DTSTART:20241103T080000
END:STANDARD
BEGIN:DAYLIGHT
TZOFFSETFROM:-0700
TZOFFSETTO:-0600
TZNAME:MDT
DTSTART:20250309T090000
END:DAYLIGHT
BEGIN:STANDARD
TZOFFSETFROM:-0600
TZOFFSETTO:-0700
TZNAME:MST
DTSTART:20251102T080000
END:STANDARD
END:VTIMEZONE
BEGIN:VEVENT
DTSTART;TZID=America/Denver:20241102T140000
DTEND;TZID=America/Denver:20241102T150000
DTSTAMP:20260419T135455
CREATED:20241119T211621Z
LAST-MODIFIED:20241119T211622Z
UID:6320-1730556000-1730559600@goodshepsilver.org
SUMMARY:Solo Rehearsal
DESCRIPTION:
URL:https://goodshepsilver.org/event/solo-rehearsal/
CATEGORIES:Church Events
END:VEVENT
BEGIN:VEVENT
DTSTART;TZID=America/Denver:20241102T090000
DTEND;TZID=America/Denver:20241102T160000
DTSTAMP:20260419T135455
CREATED:20241119T210744Z
LAST-MODIFIED:20241119T211307Z
UID:6310-1730538000-1730563200@goodshepsilver.org
SUMMARY:Holiday Church Bazaar
DESCRIPTION:
URL:https://goodshepsilver.org/event/holiday-church-bazaar/
CATEGORIES:Church Events
END:VEVENT
BEGIN:VEVENT
DTSTART;TZID=America/Denver:20240502T120000
DTEND;TZID=America/Denver:20240502T130000
DTSTAMP:20260419T135455
CREATED:20240201T182549Z
LAST-MODIFIED:20240402T202753Z
UID:5949-1714651200-1714654800@goodshepsilver.org
SUMMARY:National Day of Prayer
DESCRIPTION:Thurs. May 2nd the National Day of Prayer at 12:00 pm to 1:00 pm at Gough Park 1201 N. Pope St. Silver City\, NM 88061 (Susan Bryant #575-313-639)
URL:https://goodshepsilver.org/event/holy-eucharist-rite-ii-5/
LOCATION:Gough Park\, 1201 N. Pope St.\, Silver City\, 88061\, United States
END:VEVENT
BEGIN:VEVENT
DTSTART;TZID=America/Denver:20240501T120000
DTEND;TZID=America/Denver:20240501T130000
DTSTAMP:20260419T135455
CREATED:20240411T210208Z
LAST-MODIFIED:20240411T210208Z
UID:6187-1714564800-1714568400@goodshepsilver.org
SUMMARY:Eucharist
DESCRIPTION:Eucharist-12:00PM
URL:https://goodshepsilver.org/event/eucharist/
LOCATION:Church of the Good Shepherd\, 615 N Texas Street\, Silver City\, NM\, 88062\, United States
END:VEVENT
BEGIN:VEVENT
DTSTART;TZID=America/Denver:20240430T170000
DTEND;TZID=America/Denver:20240430T190000
DTSTAMP:20260419T135455
CREATED:20240411T210105Z
LAST-MODIFIED:20240411T210105Z
UID:6185-1714496400-1714503600@goodshepsilver.org
SUMMARY:Coda
DESCRIPTION:Coda-5:00-7:00PM
URL:https://goodshepsilver.org/event/coda-6/
LOCATION:Church of the Good Shepherd\, 615 N Texas Street\, Silver City\, NM\, 88062\, United States
END:VEVENT
BEGIN:VEVENT
DTSTART;TZID=America/Denver:20240430T130000
DTEND;TZID=America/Denver:20240430T180000
DTSTAMP:20260419T135455
CREATED:20240411T205954Z
LAST-MODIFIED:20240411T205954Z
UID:6183-1714482000-1714500000@goodshepsilver.org
SUMMARY:Worship Committee
DESCRIPTION:Worship Committee-1:00PM
URL:https://goodshepsilver.org/event/worship-committee-2/
LOCATION:Church of the Good Shepherd\, 615 N Texas Street\, Silver City\, NM\, 88062\, United States
END:VEVENT
BEGIN:VEVENT
DTSTART;TZID=America/Denver:20240428T113000
DTEND;TZID=America/Denver:20240428T123000
DTSTAMP:20260419T135455
CREATED:20240411T195200Z
LAST-MODIFIED:20240411T195200Z
UID:6137-1714303800-1714307400@goodshepsilver.org
SUMMARY:Book Discussion
DESCRIPTION:
URL:https://goodshepsilver.org/event/book-discussion-3/
LOCATION:Church of the Good Shepherd\, 615 N Texas Street\, Silver City\, NM\, 88062\, United States
END:VEVENT
BEGIN:VEVENT
DTSTART;TZID=America/Denver:20240428T093000
DTEND;TZID=America/Denver:20240428T103000
DTSTAMP:20260419T135455
CREATED:20240407T153039Z
LAST-MODIFIED:20240411T194313Z
UID:5874-1714296600-1714300200@goodshepsilver.org
SUMMARY:Holy Eucharist Rite II
DESCRIPTION:
URL:https://goodshepsilver.org/event/holy-eucharist-rite-ii/
LOCATION:Church of the Good Shepherd\, 615 N Texas Street\, Silver City\, NM\, 88062\, United States
END:VEVENT
BEGIN:VEVENT
DTSTART;TZID=America/Denver:20240425T171500
DTEND;TZID=America/Denver:20240425T183000
DTSTAMP:20260419T135455
CREATED:20240411T205545Z
LAST-MODIFIED:20240411T205545Z
UID:6181-1714065300-1714069800@goodshepsilver.org
SUMMARY:OEA
DESCRIPTION:OEA-5:15PM
URL:https://goodshepsilver.org/event/oea-7/
LOCATION:Church of the Good Shepherd\, 615 N Texas Street\, Silver City\, NM\, 88062\, United States
END:VEVENT
BEGIN:VEVENT
DTSTART;TZID=America/Denver:20240425T120000
DTEND;TZID=America/Denver:20240425T130000
DTSTAMP:20260419T135455
CREATED:20240411T205317Z
LAST-MODIFIED:20240411T205317Z
UID:6177-1714046400-1714050000@goodshepsilver.org
SUMMARY:Caretakers
DESCRIPTION:Caretakers-12:00-1:00PM
URL:https://goodshepsilver.org/event/caretakers-3/
LOCATION:Church of the Good Shepherd\, 615 N Texas Street\, Silver City\, NM\, 88062\, United States
END:VEVENT
BEGIN:VEVENT
DTSTART;TZID=America/Denver:20240425T110000
DTEND;TZID=America/Denver:20240425T140000
DTSTAMP:20260419T135455
CREATED:20240411T205437Z
LAST-MODIFIED:20240411T205437Z
UID:6179-1714042800-1714053600@goodshepsilver.org
SUMMARY:Choir Rehearsal
DESCRIPTION:Choir Rehearsal-11:00-2:00PM
URL:https://goodshepsilver.org/event/choir-rehearsal-3/
LOCATION:Church of the Good Shepherd\, 615 N Texas Street\, Silver City\, NM\, 88062\, United States
END:VEVENT
BEGIN:VEVENT
DTSTART;TZID=America/Denver:20240424T120000
DTEND;TZID=America/Denver:20240424T130000
DTSTAMP:20260419T135455
CREATED:20240411T205125Z
LAST-MODIFIED:20240411T205125Z
UID:6175-1713960000-1713963600@goodshepsilver.org
SUMMARY:Eucronst
DESCRIPTION:Eucronst-12:00 PM
URL:https://goodshepsilver.org/event/eucronst/
LOCATION:Church of the Good Shepherd\, 615 N Texas Street\, Silver City\, NM\, 88062\, United States
END:VEVENT
BEGIN:VEVENT
DTSTART;TZID=America/Denver:20240423T170000
DTEND;TZID=America/Denver:20240423T190000
DTSTAMP:20260419T135455
CREATED:20240411T205011Z
LAST-MODIFIED:20240411T205011Z
UID:6173-1713891600-1713898800@goodshepsilver.org
SUMMARY:Coda
DESCRIPTION:Coda-5:00-7:00 PM
URL:https://goodshepsilver.org/event/coda-5/
LOCATION:Church of the Good Shepherd\, 615 N Texas Street\, Silver City\, NM\, 88062\, United States
END:VEVENT
BEGIN:VEVENT
DTSTART;TZID=America/Denver:20240422T150000
DTEND;TZID=America/Denver:20240422T170000
DTSTAMP:20260419T135455
CREATED:20240411T204852Z
LAST-MODIFIED:20240411T204852Z
UID:6171-1713798000-1713805200@goodshepsilver.org
SUMMARY:Vestry
DESCRIPTION:Vestry-3:00-5:00 PM
URL:https://goodshepsilver.org/event/vestry/
LOCATION:Church of the Good Shepherd\, 615 N Texas Street\, Silver City\, NM\, 88062\, United States
END:VEVENT
BEGIN:VEVENT
DTSTART;TZID=America/Denver:20240421T113000
DTEND;TZID=America/Denver:20240421T130000
DTSTAMP:20260419T135455
CREATED:20240411T204728Z
LAST-MODIFIED:20240411T204728Z
UID:6169-1713699000-1713704400@goodshepsilver.org
SUMMARY:Book Discussion
DESCRIPTION:Book Discussion-11:30 Am
URL:https://goodshepsilver.org/event/book-discussion-5/
LOCATION:Church of the Good Shepherd\, 615 N Texas Street\, Silver City\, NM\, 88062\, United States
END:VEVENT
BEGIN:VEVENT
DTSTART;TZID=America/Denver:20240421T093000
DTEND;TZID=America/Denver:20240421T230000
DTSTAMP:20260419T135455
CREATED:20240411T204534Z
LAST-MODIFIED:20240411T204534Z
UID:6167-1713691800-1713740400@goodshepsilver.org
SUMMARY:HEII
DESCRIPTION:HEII-9:30Am
URL:https://goodshepsilver.org/event/heii-2/
LOCATION:Church of the Good Shepherd\, 615 N Texas Street\, Silver City\, NM\, 88062\, United States
END:VEVENT
BEGIN:VEVENT
DTSTART;TZID=America/Denver:20240421T093000
DTEND;TZID=America/Denver:20240421T103000
DTSTAMP:20260419T135455
CREATED:20240411T193546Z
LAST-MODIFIED:20240411T194201Z
UID:6125-1713691800-1713695400@goodshepsilver.org
SUMMARY:Holy Eucharist Rite II
DESCRIPTION:
URL:https://goodshepsilver.org/event/holy-eucharist-rite-ii-6/
LOCATION:Church of the Good Shepherd\, 615 N Texas Street\, Silver City\, NM\, 88062\, United States
END:VEVENT
BEGIN:VEVENT
DTSTART;TZID=America/Denver:20240418T171500
DTEND;TZID=America/Denver:20240418T183000
DTSTAMP:20260419T135455
CREATED:20240411T204329Z
LAST-MODIFIED:20240411T204329Z
UID:6165-1713460500-1713465000@goodshepsilver.org
SUMMARY:OEA
DESCRIPTION:OEA-5:15PM
URL:https://goodshepsilver.org/event/oea-6/
LOCATION:Church of the Good Shepherd\, 615 N Texas Street\, Silver City\, NM\, 88062\, United States
END:VEVENT
BEGIN:VEVENT
DTSTART;TZID=America/Denver:20240418T130000
DTEND;TZID=America/Denver:20240418T140000
DTSTAMP:20260419T135455
CREATED:20240411T204217Z
LAST-MODIFIED:20240411T204217Z
UID:6163-1713445200-1713448800@goodshepsilver.org
SUMMARY:Choir Rehearsal
DESCRIPTION:Choir Rehearsal-1-2:00 PM
URL:https://goodshepsilver.org/event/choir-rehearsal-2/
LOCATION:Church of the Good Shepherd\, 615 N Texas Street\, Silver City\, NM\, 88062\, United States
END:VEVENT
BEGIN:VEVENT
DTSTART;TZID=America/Denver:20240418T120000
DTEND;TZID=America/Denver:20240418T130000
DTSTAMP:20260419T135455
CREATED:20240411T204043Z
LAST-MODIFIED:20240411T204043Z
UID:6161-1713441600-1713445200@goodshepsilver.org
SUMMARY:Caretakers
DESCRIPTION:Caretakers-12:00-1:00PM
URL:https://goodshepsilver.org/event/caretakers-2/
LOCATION:Church of the Good Shepherd\, 615 N Texas Street\, Silver City\, NM\, 88062\, United States
END:VEVENT
BEGIN:VEVENT
DTSTART;TZID=America/Denver:20240417T120000
DTEND;TZID=America/Denver:20240417T133000
DTSTAMP:20260419T135455
CREATED:20240411T203859Z
LAST-MODIFIED:20240411T203859Z
UID:6159-1713355200-1713360600@goodshepsilver.org
SUMMARY:Taize
DESCRIPTION:Taize-12:00
URL:https://goodshepsilver.org/event/taize/
LOCATION:Church of the Good Shepherd\, 615 N Texas Street\, Silver City\, NM\, 88062\, United States
END:VEVENT
BEGIN:VEVENT
DTSTART;TZID=America/Denver:20240417T103000
DTEND;TZID=America/Denver:20240417T230000
DTSTAMP:20260419T135455
CREATED:20240411T203720Z
LAST-MODIFIED:20240411T203720Z
UID:6157-1713349800-1713394800@goodshepsilver.org
SUMMARY:DOK
DESCRIPTION:DOK-10:30 AM
URL:https://goodshepsilver.org/event/dok/
LOCATION:Church of the Good Shepherd\, 615 N Texas Street\, Silver City\, NM\, 88062\, United States
END:VEVENT
BEGIN:VEVENT
DTSTART;TZID=America/Denver:20240416T170000
DTEND;TZID=America/Denver:20240416T190000
DTSTAMP:20260419T135455
CREATED:20240411T202803Z
LAST-MODIFIED:20240411T202803Z
UID:6155-1713286800-1713294000@goodshepsilver.org
SUMMARY:Coda
DESCRIPTION:Coda-5;00PM-7:00PM
URL:https://goodshepsilver.org/event/coda-2/
LOCATION:Church of the Good Shepherd\, 615 N Texas Street\, Silver City\, NM\, 88062\, United States
END:VEVENT
BEGIN:VEVENT
DTSTART;TZID=America/Denver:20240414T150000
DTEND;TZID=America/Denver:20240414T170000
DTSTAMP:20260419T135455
CREATED:20240411T202608Z
LAST-MODIFIED:20240411T202608Z
UID:6153-1713106800-1713114000@goodshepsilver.org
SUMMARY:Spring Concert
DESCRIPTION:Spring Concert-3:00 PM
URL:https://goodshepsilver.org/event/spring-concert/
END:VEVENT
BEGIN:VEVENT
DTSTART;TZID=America/Denver:20240414T113000
DTEND;TZID=America/Denver:20240414T140000
DTSTAMP:20260419T135455
CREATED:20240411T202442Z
LAST-MODIFIED:20240411T202442Z
UID:6151-1713094200-1713103200@goodshepsilver.org
SUMMARY:Book Discussion
DESCRIPTION:Book Discussion-11:30
URL:https://goodshepsilver.org/event/book-discussion-4/
LOCATION:Church of the Good Shepherd\, 615 N Texas Street\, Silver City\, NM\, 88062\, United States
END:VEVENT
BEGIN:VEVENT
DTSTART;TZID=America/Denver:20240414T093000
DTEND;TZID=America/Denver:20240414T110000
DTSTAMP:20260419T135455
CREATED:20240411T202241Z
LAST-MODIFIED:20240411T202241Z
UID:6149-1713087000-1713092400@goodshepsilver.org
SUMMARY:HEII
DESCRIPTION:HEII-9:30 AM
URL:https://goodshepsilver.org/event/heii/
LOCATION:Church of the Good Shepherd\, 615 N Texas Street\, Silver City\, NM\, 88062\, United States
END:VEVENT
BEGIN:VEVENT
DTSTART;TZID=America/Denver:20240414T093000
DTEND;TZID=America/Denver:20240414T103000
DTSTAMP:20260419T135455
CREATED:20240411T193754Z
LAST-MODIFIED:20240411T193754Z
UID:6127-1713087000-1713090600@goodshepsilver.org
SUMMARY:Holy Eucharist Rite II
DESCRIPTION:
URL:https://goodshepsilver.org/event/holy-eucharist-rite-ii-7/
LOCATION:Church of the Good Shepherd\, 615 N Texas Street\, Silver City\, NM\, 88062\, United States
END:VEVENT
BEGIN:VEVENT
DTSTART;TZID=America/Denver:20240413T090000
DTEND;TZID=America/Denver:20240413T130000
DTSTAMP:20260419T135455
CREATED:20240411T201911Z
LAST-MODIFIED:20240411T201911Z
UID:6147-1712998800-1713013200@goodshepsilver.org
SUMMARY:Garage Sale
DESCRIPTION:Garage Sale 9:00 AM 1:00 PM
URL:https://goodshepsilver.org/event/garage-sale-2/
LOCATION:Church of the Good Shepherd\, 615 N Texas Street\, Silver City\, NM\, 88062\, United States
END:VEVENT
BEGIN:VEVENT
DTSTART;TZID=America/Denver:20240411T171500
DTEND;TZID=America/Denver:20240411T183000
DTSTAMP:20260419T135455
CREATED:20240411T201501Z
LAST-MODIFIED:20240411T201545Z
UID:6145-1712855700-1712860200@goodshepsilver.org
SUMMARY:OEA
DESCRIPTION:OEA-5:15 PM
URL:https://goodshepsilver.org/event/oea/
LOCATION:Church of the Good Shepherd\, 615 N Texas Street\, Silver City\, NM\, 88062\, United States
END:VEVENT
BEGIN:VEVENT
DTSTART;TZID=America/Denver:20240411T130000
DTEND;TZID=America/Denver:20240411T140000
DTSTAMP:20260419T135455
CREATED:20240411T201320Z
LAST-MODIFIED:20240411T201320Z
UID:6143-1712840400-1712844000@goodshepsilver.org
SUMMARY:Choir Rehearsal
DESCRIPTION:Choir Rehearsal-1-2:00 PM
URL:https://goodshepsilver.org/event/choir-rehearsal/
LOCATION:Church of the Good Shepherd\, 615 N Texas Street\, Silver City\, NM\, 88062\, United States
END:VEVENT
END:VCALENDAR