BEGIN:VCALENDAR
VERSION:2.0
PRODID:-//Episcopal Church of the Good Shepherd - ECPv6.15.12.2//NONSGML v1.0//EN
CALSCALE:GREGORIAN
METHOD:PUBLISH
X-ORIGINAL-URL:https://goodshepsilver.org
X-WR-CALDESC:Events for Episcopal Church of the Good Shepherd
REFRESH-INTERVAL;VALUE=DURATION:PT1H
X-Robots-Tag:noindex
X-PUBLISHED-TTL:PT1H
BEGIN:VTIMEZONE
TZID:America/Denver
BEGIN:DAYLIGHT
TZOFFSETFROM:-0700
TZOFFSETTO:-0600
TZNAME:MDT
DTSTART:20230312T090000
END:DAYLIGHT
BEGIN:STANDARD
TZOFFSETFROM:-0600
TZOFFSETTO:-0700
TZNAME:MST
DTSTART:20231105T080000
END:STANDARD
BEGIN:DAYLIGHT
TZOFFSETFROM:-0700
TZOFFSETTO:-0600
TZNAME:MDT
DTSTART:20240310T090000
END:DAYLIGHT
BEGIN:STANDARD
TZOFFSETFROM:-0600
TZOFFSETTO:-0700
TZNAME:MST
DTSTART:20241103T080000
END:STANDARD
BEGIN:DAYLIGHT
TZOFFSETFROM:-0700
TZOFFSETTO:-0600
TZNAME:MDT
DTSTART:20250309T090000
END:DAYLIGHT
BEGIN:STANDARD
TZOFFSETFROM:-0600
TZOFFSETTO:-0700
TZNAME:MST
DTSTART:20251102T080000
END:STANDARD
END:VTIMEZONE
BEGIN:VEVENT
DTSTART;TZID=America/Denver:20240303T093000
DTEND;TZID=America/Denver:20240303T103000
DTSTAMP:20260422T071113
CREATED:20240201T184626Z
LAST-MODIFIED:20240301T190758Z
UID:5971-1709458200-1709461800@goodshepsilver.org
SUMMARY:Holy Eucharist II
DESCRIPTION:
URL:https://goodshepsilver.org/event/holy-eucharist-followed-by-lunch-2/
LOCATION:Church of the Good Shepherd\, 615 N Texas Street\, Silver City\, NM\, 88062\, United States
END:VEVENT
BEGIN:VEVENT
DTSTART;TZID=America/Denver:20240302T083000
DTEND;TZID=America/Denver:20240302T123000
DTSTAMP:20260422T071113
CREATED:20240222T190702Z
LAST-MODIFIED:20240222T190702Z
UID:6012-1709368200-1709382600@goodshepsilver.org
SUMMARY:Reply with Love to Love Most High - A Lenten Retreat
DESCRIPTION:Reply with Love to Love Most High – A Lenten Retreat \nSponsored by the Daughters of the King for the Whole Congregation \nMeditations by The Rev. Tara Soughers \n  \nFriday\, March 1- Saturday March 2\, 2024 \n  \nSchedule: \nFriday\, March 1: \n5:00 Soup Supper (please bring a can of vegetable to share) \n6:00 First Meditation: Accepting God’s Love \n8:00 Compline \n  \nSaturday\, March 2: \n8:30 Gathering \n9:00 Morning Prayer and Second Meditation: Loving God \n10:30 Third Meditation: Replying to Love \n11:45 Eucharist \n12:30 Lunch
URL:https://goodshepsilver.org/event/reply-with-love-to-love-most-high-a-lenten-retreat-2/
LOCATION:Church of the Good Shepherd\, 615 N Texas Street\, Silver City\, NM\, 88062\, United States
END:VEVENT
BEGIN:VEVENT
DTSTART;TZID=America/Denver:20240301T170000
DTEND;TZID=America/Denver:20240301T200000
DTSTAMP:20260422T071113
CREATED:20240222T190512Z
LAST-MODIFIED:20240222T190512Z
UID:6010-1709312400-1709323200@goodshepsilver.org
SUMMARY:Reply with Love to Love Most High - A Lenten Retreat
DESCRIPTION:Reply with Love to Love Most High – A Lenten Retreat \nSponsored by the Daughters of the King for the Whole Congregation \nMeditations by The Rev. Tara Soughers \n  \nFriday\, March 1- Saturday March 2\, 2024 \n  \nSchedule: \nFriday\, March 1: \n5:00 Soup Supper (please bring a can of vegetable to share) \n6:00 First Meditation: Accepting God’s Love \n8:00 Compline \n  \nSaturday\, March 2: \n8:30 Gathering \n9:00 Morning Prayer and Second Meditation: Loving God \n10:30 Third Meditation: Replying to Love \n11:45 Eucharist \n12:30 Lunch
URL:https://goodshepsilver.org/event/reply-with-love-to-love-most-high-a-lenten-retreat/
LOCATION:Church of the Good Shepherd\, 615 N Texas Street\, Silver City\, NM\, 88062\, United States
END:VEVENT
BEGIN:VEVENT
DTSTART;TZID=America/Denver:20240301T120000
DTEND;TZID=America/Denver:20240301T130000
DTSTAMP:20260422T071113
CREATED:20240301T185903Z
LAST-MODIFIED:20240301T185903Z
UID:6021-1709294400-1709298000@goodshepsilver.org
SUMMARY:Stations of the Cross
DESCRIPTION:Stations \nWe will provide the opportunity during Lent for people to pray at the Stations of the Cross\, on Fridays in the Church\, at Noon. \nThere will be someone present to lead the meditation each week from now until Good Friday.
URL:https://goodshepsilver.org/event/stations-of-the-cross-2/
LOCATION:NM
END:VEVENT
BEGIN:VEVENT
DTSTART;VALUE=DATE:20240301
DTEND;VALUE=DATE:20240302
DTSTAMP:20260422T071113
CREATED:20240301T225444Z
LAST-MODIFIED:20240301T225444Z
UID:6052-1709251200-1709337599@goodshepsilver.org
SUMMARY:Daylight Savings Time Begins
DESCRIPTION:
URL:https://goodshepsilver.org/event/daylight-savings-time-begins/
LOCATION:NM
END:VEVENT
BEGIN:VEVENT
DTSTART;TZID=America/Denver:20240225T111500
DTEND;TZID=America/Denver:20240225T121500
DTSTAMP:20260422T071113
CREATED:20240201T182108Z
LAST-MODIFIED:20240201T182108Z
UID:5943-1708859700-1708863300@goodshepsilver.org
SUMMARY:Adult Education/Discussion Henderson Hall
DESCRIPTION:Henderson Hall is located in the brick house next door to the church
URL:https://goodshepsilver.org/event/adult-education-discussion-henderson-hall-4/
LOCATION:Church of the Good Shepherd\, 615 N Texas Street\, Silver City\, NM\, 88062\, United States
END:VEVENT
BEGIN:VEVENT
DTSTART;TZID=America/Denver:20240225T093000
DTEND;TZID=America/Denver:20240225T103000
DTSTAMP:20260422T071113
CREATED:20240201T183253Z
LAST-MODIFIED:20240201T183253Z
UID:5957-1708853400-1708857000@goodshepsilver.org
SUMMARY:Children's Sunday School - ages 3 to 11
DESCRIPTION:
URL:https://goodshepsilver.org/event/childrens-sunday-school-ages-3-to-11-4/
LOCATION:Church of the Good Shepherd\, 615 N Texas Street\, Silver City\, NM\, 88062\, United States
CATEGORIES:Sunday School
END:VEVENT
BEGIN:VEVENT
DTSTART;TZID=America/Denver:20240221T183000
DTEND;TZID=America/Denver:20240221T193000
DTSTAMP:20260422T071113
CREATED:20240201T185604Z
LAST-MODIFIED:20240201T185604Z
UID:5976-1708540200-1708543800@goodshepsilver.org
SUMMARY:Bell Choir Practice
DESCRIPTION:
URL:https://goodshepsilver.org/event/bell-choir-practice-2/
LOCATION:Church of the Good Shepherd\, 615 N Texas Street\, Silver City\, NM\, 88062\, United States
END:VEVENT
BEGIN:VEVENT
DTSTART;TZID=America/Denver:20240218T150000
DTEND;TZID=America/Denver:20240218T163000
DTSTAMP:20260422T071113
CREATED:20240201T183906Z
LAST-MODIFIED:20240201T183939Z
UID:5964-1708268400-1708273800@goodshepsilver.org
SUMMARY:Everything You Ever Wanted to Know About the Episcopal Church (But Were Afraid to Ask)
DESCRIPTION:
URL:https://goodshepsilver.org/event/everything-you-ever-wanted-to-know-about-the-episcopal-church-but-were-afraid-to-ask-copy/
LOCATION:Church of the Good Shepherd\, 615 N Texas Street\, Silver City\, NM\, 88062\, United States
END:VEVENT
BEGIN:VEVENT
DTSTART;TZID=America/Denver:20240218T111500
DTEND;TZID=America/Denver:20240218T121500
DTSTAMP:20260422T071113
CREATED:20240201T181957Z
LAST-MODIFIED:20240201T181957Z
UID:5940-1708254900-1708258500@goodshepsilver.org
SUMMARY:Adult Education/Discussion Henderson Hall
DESCRIPTION:Henderson Hall is located in the brick house next door to the church
URL:https://goodshepsilver.org/event/adult-education-discussion-henderson-hall-3/
LOCATION:Church of the Good Shepherd\, 615 N Texas Street\, Silver City\, NM\, 88062\, United States
END:VEVENT
BEGIN:VEVENT
DTSTART;TZID=America/Denver:20240218T093000
DTEND;TZID=America/Denver:20240218T103000
DTSTAMP:20260422T071113
CREATED:20240201T183158Z
LAST-MODIFIED:20240201T183158Z
UID:5955-1708248600-1708252200@goodshepsilver.org
SUMMARY:Children's Sunday School - ages 3 to 11
DESCRIPTION:
URL:https://goodshepsilver.org/event/childrens-sunday-school-ages-3-to-11-3/
LOCATION:Church of the Good Shepherd\, 615 N Texas Street\, Silver City\, NM\, 88062\, United States
CATEGORIES:Sunday School
END:VEVENT
BEGIN:VEVENT
DTSTART;TZID=America/Denver:20240214T170000
DTEND;TZID=America/Denver:20240214T180000
DTSTAMP:20260422T071113
CREATED:20240126T180729Z
LAST-MODIFIED:20240126T181017Z
UID:5897-1707930000-1707933600@goodshepsilver.org
SUMMARY:Ash Wednesday Afternoon Service
DESCRIPTION:Easter is early this year\, which means that Lent will be shortly arriving.   Ash Wednesday will be Wednesday February 14\, and ashes will be available at both the noon and 5:00 PM services.
URL:https://goodshepsilver.org/event/ash-wednesday-afternoon-service/
LOCATION:Church of the Good Shepherd\, 615 N Texas Street\, Silver City\, NM\, 88062\, United States
END:VEVENT
BEGIN:VEVENT
DTSTART;TZID=America/Denver:20240214T120000
DTEND;TZID=America/Denver:20240214T130000
DTSTAMP:20260422T071113
CREATED:20240126T180631Z
LAST-MODIFIED:20240201T192126Z
UID:5895-1707912000-1707915600@goodshepsilver.org
SUMMARY:Ash Wednesday - Holy Eucharist and Imposition of Ashes
DESCRIPTION:Easter is early this year\, which means that Lent will be shortly arriving.  Ash Wednesday will be Wednesday February 14\, and ashes will be available at both the noon and 5:00 PM services.
URL:https://goodshepsilver.org/event/ash-wednesday/
LOCATION:Church of the Good Shepherd\, 615 N Texas Street\, Silver City\, NM\, 88062\, United States
END:VEVENT
BEGIN:VEVENT
DTSTART;TZID=America/Denver:20240213T170000
DTEND;TZID=America/Denver:20240213T190000
DTSTAMP:20260422T071113
CREATED:20240126T181117Z
LAST-MODIFIED:20240201T192012Z
UID:5899-1707843600-1707850800@goodshepsilver.org
SUMMARY:Shrove Tuesday - Pancake Supper
DESCRIPTION:Easter is early this year\, which means that Lent will be shortly arriving.  Shrove Tuesday (and pancakes) will be coming on February 13th. \n  \n 
URL:https://goodshepsilver.org/event/shrove-tuesday-pancakes/
LOCATION:Church of the Good Shepherd\, 615 N Texas Street\, Silver City\, NM\, 88062\, United States
END:VEVENT
BEGIN:VEVENT
DTSTART;TZID=America/Denver:20240211T180000
DTEND;TZID=America/Denver:20240211T190000
DTSTAMP:20260422T071113
CREATED:20240126T180440Z
LAST-MODIFIED:20240126T180440Z
UID:5893-1707674400-1707678000@goodshepsilver.org
SUMMARY:Beyond a Binary God: A Theology for Trans Allies by Tara Soughers
DESCRIPTION:Rev. Soughers is the new rector of The Episcopal Church of the Good Shepherd in Silver City\, NM.  Everyone is welcome to attend. \n  \nYou can purchase the book wherever you get your books or check out your local lending institution.  If you have trouble finding a copy\, please let us know and we’ll help you out.  Note:  Reading the book is NOT required for attending the presentation and discussion. \n  \nHere is the Zoom link for the event: https://us02web.zoom.us/j/82600080703  \nThe meeting ID is 826 0008 0703 \n  \nThis is being sponsored by The Diocese of the Rio Grande LGBTQ+ Ministry \n 
URL:https://goodshepsilver.org/event/beyond-a-binary-god-a-theology-for-trans-allies-by-tara-soughers/
LOCATION:Church of the Good Shepherd\, 615 N Texas Street\, Silver City\, NM\, 88062\, United States
END:VEVENT
BEGIN:VEVENT
DTSTART;TZID=America/Denver:20240211T150000
DTEND;TZID=America/Denver:20240211T163000
DTSTAMP:20260422T071113
CREATED:20240201T183815Z
LAST-MODIFIED:20240201T183815Z
UID:5962-1707663600-1707669000@goodshepsilver.org
SUMMARY:Everything You Ever Wanted to Know About the Episcopal Church (But Were Afraid to Ask)
DESCRIPTION:
URL:https://goodshepsilver.org/event/everything-you-ever-wanted-to-know-about-the-episcopal-church-but-were-afraid-to-ask-2/
LOCATION:Church of the Good Shepherd\, 615 N Texas Street\, Silver City\, NM\, 88062\, United States
END:VEVENT
BEGIN:VEVENT
DTSTART;TZID=America/Denver:20240211T111500
DTEND;TZID=America/Denver:20240211T121500
DTSTAMP:20260422T071113
CREATED:20240201T181744Z
LAST-MODIFIED:20240201T181744Z
UID:5938-1707650100-1707653700@goodshepsilver.org
SUMMARY:Adult Education/Discussion Henderson Hall
DESCRIPTION:Henderson Hall is located in the brick house next door to the church
URL:https://goodshepsilver.org/event/adult-education-discussion-henderson-hall-2/
LOCATION:Church of the Good Shepherd\, 615 N Texas Street\, Silver City\, NM\, 88062\, United States
END:VEVENT
BEGIN:VEVENT
DTSTART;TZID=America/Denver:20240211T093000
DTEND;TZID=America/Denver:20240211T103000
DTSTAMP:20260422T071113
CREATED:20240201T181046Z
LAST-MODIFIED:20240201T181238Z
UID:5932-1707643800-1707647400@goodshepsilver.org
SUMMARY:Children's Sunday School - ages 3 to 11
DESCRIPTION:
URL:https://goodshepsilver.org/event/childrens-sunday-school-ages-3-to-11/
LOCATION:Church of the Good Shepherd\, 615 N Texas Street\, Silver City\, NM\, 88062\, United States
CATEGORIES:Sunday School
END:VEVENT
BEGIN:VEVENT
DTSTART;TZID=America/Denver:20240204T150000
DTEND;TZID=America/Denver:20240204T163000
DTSTAMP:20260422T071113
CREATED:20240201T183722Z
LAST-MODIFIED:20240201T183722Z
UID:5960-1707058800-1707064200@goodshepsilver.org
SUMMARY:Everything You Ever Wanted to Know About the Episcopal Church (But Were Afraid to Ask)
DESCRIPTION:
URL:https://goodshepsilver.org/event/everything-you-ever-wanted-to-know-about-the-episcopal-church-but-were-afraid-to-ask/
LOCATION:Church of the Good Shepherd\, 615 N Texas Street\, Silver City\, NM\, 88062\, United States
END:VEVENT
BEGIN:VEVENT
DTSTART;TZID=America/Denver:20240204T111500
DTEND;TZID=America/Denver:20240204T121500
DTSTAMP:20260422T071113
CREATED:20240201T181649Z
LAST-MODIFIED:20240201T181912Z
UID:5936-1707045300-1707048900@goodshepsilver.org
SUMMARY:Adult Education/Discussion Henderson Hall
DESCRIPTION:Henderson Hall is located in the brick house next door to the church
URL:https://goodshepsilver.org/event/adult-education-discussion-henderson-hall-copy/
LOCATION:Church of the Good Shepherd\, 615 N Texas Street\, Silver City\, NM\, 88062\, United States
END:VEVENT
BEGIN:VEVENT
DTSTART;TZID=America/Denver:20240204T093000
DTEND;TZID=America/Denver:20240204T103000
DTSTAMP:20260422T071113
CREATED:20240201T182735Z
LAST-MODIFIED:20240201T182735Z
UID:5953-1707039000-1707042600@goodshepsilver.org
SUMMARY:Children's Sunday School - ages 3 to 11
DESCRIPTION:
URL:https://goodshepsilver.org/event/childrens-sunday-school-ages-3-to-11-2/
LOCATION:Church of the Good Shepherd\, 615 N Texas Street\, Silver City\, NM\, 88062\, United States
CATEGORIES:Sunday School
END:VEVENT
BEGIN:VEVENT
DTSTART;TZID=America/Denver:20240128T150000
DTEND;TZID=America/Denver:20240128T163000
DTSTAMP:20260422T071113
CREATED:20240104T211825Z
LAST-MODIFIED:20240126T173650Z
UID:5334-1706454000-1706459400@goodshepsilver.org
SUMMARY:Everything You Ever Wanted to Know About the Episcopal Church (But Were Afraid to Ask)
DESCRIPTION:
URL:https://goodshepsilver.org/event/everything-you-ever-wanted-to-know-about-the-episcopal-church-but-were-afraid-to-ask-300-pm-to-430-pm/
LOCATION:Church of the Good Shepherd\, 615 N Texas Street\, Silver City\, NM\, 88062\, United States
END:VEVENT
BEGIN:VEVENT
DTSTART;TZID=America/Denver:20240128T111500
DTEND;TZID=America/Denver:20240128T121500
DTSTAMP:20260422T071113
CREATED:20240126T173527Z
LAST-MODIFIED:20240126T173834Z
UID:5878-1706440500-1706444100@goodshepsilver.org
SUMMARY:Adult Education/Discussion Henderson Hall
DESCRIPTION:Henderson Hall is located in the brick house next door to the church
URL:https://goodshepsilver.org/event/adult-education-discussion-henderson-hall/
LOCATION:Church of the Good Shepherd\, 615 N Texas Street\, Silver City\, NM\, 88062\, United States
END:VEVENT
BEGIN:VEVENT
DTSTART;TZID=America/Denver:20240128T103000
DTEND;TZID=America/Denver:20240128T233000
DTSTAMP:20260422T071113
CREATED:20240126T174735Z
LAST-MODIFIED:20240126T175149Z
UID:5891-1706437800-1706484600@goodshepsilver.org
SUMMARY:Coffee and Fellowship Following the Service
DESCRIPTION:
URL:https://goodshepsilver.org/event/coffee-and-fellowship-following-the-service/
LOCATION:Church of the Good Shepherd\, 615 N Texas Street\, Silver City\, NM\, 88062\, United States
END:VEVENT
BEGIN:VEVENT
DTSTART;TZID=America/Denver:20240128T093000
DTEND;TZID=America/Denver:20240128T223000
DTSTAMP:20260422T071113
CREATED:20240126T172915Z
LAST-MODIFIED:20240126T173628Z
UID:5876-1706434200-1706481000@goodshepsilver.org
SUMMARY:Children's Sunday School
DESCRIPTION:
URL:https://goodshepsilver.org/event/childrens-sunday-school/
LOCATION:Church of the Good Shepherd\, 615 N Texas Street\, Silver City\, NM\, 88062\, United States
END:VEVENT
BEGIN:VEVENT
DTSTART;TZID=America/Denver:20240121T093000
DTEND;TZID=America/Denver:20240121T103000
DTSTAMP:20260422T071113
CREATED:20240104T211743Z
LAST-MODIFIED:20240104T211743Z
UID:5332-1705829400-1705833000@goodshepsilver.org
SUMMARY:Annual Meeting – 9:30 AM
DESCRIPTION:
URL:https://goodshepsilver.org/event/annual-meeting-930-am/
LOCATION:NM
END:VEVENT
BEGIN:VEVENT
DTSTART;TZID=America/Denver:20240114T150000
DTEND;TZID=America/Denver:20240114T160000
DTSTAMP:20260422T071113
CREATED:20240104T211640Z
LAST-MODIFIED:20240104T211640Z
UID:5330-1705244400-1705248000@goodshepsilver.org
SUMMARY:Epiphany Tea – 3:00 PM
DESCRIPTION:
URL:https://goodshepsilver.org/event/epiphany-tea-300-pm/
LOCATION:Church of the Good Shepherd\, 615 N Texas Street\, Silver City\, NM\, 88062\, United States
END:VEVENT
BEGIN:VEVENT
DTSTART;TZID=America/Denver:20240107T111500
DTEND;TZID=America/Denver:20240107T121500
DTSTAMP:20260422T071113
CREATED:20240104T210252Z
LAST-MODIFIED:20240104T210814Z
UID:5320-1704626100-1704629700@goodshepsilver.org
SUMMARY:Adult Christian Education/Discussion in Henderson Hall - 11:15 AM
DESCRIPTION:
URL:https://goodshepsilver.org/event/adult-christian-education-discussion-in-henderson-hall-1115-am/
LOCATION:Church of the Good Shepherd\, 615 N Texas Street\, Silver City\, NM\, 88062\, United States
END:VEVENT
BEGIN:VEVENT
DTSTART;TZID=America/Denver:20240107T093000
DTEND;TZID=America/Denver:20240107T103000
DTSTAMP:20260422T071113
CREATED:20240104T205358Z
LAST-MODIFIED:20240104T211010Z
UID:5311-1704619800-1704623400@goodshepsilver.org
SUMMARY:Children’s Sunday School\, ages 3-11
DESCRIPTION:
URL:https://goodshepsilver.org/event/childrens-sunday-school-ages-3-11-930-am/
LOCATION:Church of the Good Shepherd\, 615 N Texas Street\, Silver City\, NM\, 88062\, United States
END:VEVENT
BEGIN:VEVENT
DTSTART;TZID=America/Denver:20240107T093000
DTEND;TZID=America/Denver:20240107T103000
DTSTAMP:20260422T071113
CREATED:20240104T201941Z
LAST-MODIFIED:20240104T210922Z
UID:5301-1704619800-1704623400@goodshepsilver.org
SUMMARY:Holy Eucharist Rite II - 9:30 AM
DESCRIPTION:Coffee and Fellowship following the service
URL:https://goodshepsilver.org/event/test/
LOCATION:Church of the Good Shepherd\, 615 N Texas Street\, Silver City\, NM\, 88062\, United States
END:VEVENT
END:VCALENDAR