BEGIN:VCALENDAR
VERSION:2.0
PRODID:-//Episcopal Church of the Good Shepherd - ECPv6.15.12.2//NONSGML v1.0//EN
CALSCALE:GREGORIAN
METHOD:PUBLISH
X-WR-CALNAME:Episcopal Church of the Good Shepherd
X-ORIGINAL-URL:https://goodshepsilver.org
X-WR-CALDESC:Events for Episcopal Church of the Good Shepherd
REFRESH-INTERVAL;VALUE=DURATION:PT1H
X-Robots-Tag:noindex
X-PUBLISHED-TTL:PT1H
BEGIN:VTIMEZONE
TZID:America/Denver
BEGIN:DAYLIGHT
TZOFFSETFROM:-0700
TZOFFSETTO:-0600
TZNAME:MDT
DTSTART:20230312T090000
END:DAYLIGHT
BEGIN:STANDARD
TZOFFSETFROM:-0600
TZOFFSETTO:-0700
TZNAME:MST
DTSTART:20231105T080000
END:STANDARD
BEGIN:DAYLIGHT
TZOFFSETFROM:-0700
TZOFFSETTO:-0600
TZNAME:MDT
DTSTART:20240310T090000
END:DAYLIGHT
BEGIN:STANDARD
TZOFFSETFROM:-0600
TZOFFSETTO:-0700
TZNAME:MST
DTSTART:20241103T080000
END:STANDARD
BEGIN:DAYLIGHT
TZOFFSETFROM:-0700
TZOFFSETTO:-0600
TZNAME:MDT
DTSTART:20250309T090000
END:DAYLIGHT
BEGIN:STANDARD
TZOFFSETFROM:-0600
TZOFFSETTO:-0700
TZNAME:MST
DTSTART:20251102T080000
END:STANDARD
END:VTIMEZONE
BEGIN:VEVENT
DTSTART;TZID=America/Denver:20241124T113000
DTEND;TZID=America/Denver:20241124T113000
DTSTAMP:20260419T122015
CREATED:20241119T232348Z
LAST-MODIFIED:20241119T232355Z
UID:6404-1732447800-1732447800@goodshepsilver.org
SUMMARY:Adult Study Book
DESCRIPTION:
URL:https://goodshepsilver.org/event/adult-study-book/
CATEGORIES:Sunday School
END:VEVENT
BEGIN:VEVENT
DTSTART;TZID=America/Denver:20241124T093000
DTEND;TZID=America/Denver:20241124T093000
DTSTAMP:20260419T122015
CREATED:20241119T232256Z
LAST-MODIFIED:20241119T232303Z
UID:6402-1732440600-1732440600@goodshepsilver.org
SUMMARY:Children's Sunday School
DESCRIPTION:
URL:https://goodshepsilver.org/event/childrens-sunday-school-5/
CATEGORIES:Sunday School
END:VEVENT
BEGIN:VEVENT
DTSTART;TZID=America/Denver:20241117T113000
DTEND;TZID=America/Denver:20241117T113000
DTSTAMP:20260419T122015
CREATED:20241119T215259Z
LAST-MODIFIED:20241119T215305Z
UID:6376-1731843000-1731843000@goodshepsilver.org
SUMMARY:Adult Book Study
DESCRIPTION:
URL:https://goodshepsilver.org/event/adult-book-study-3/
CATEGORIES:Sunday School
END:VEVENT
BEGIN:VEVENT
DTSTART;TZID=America/Denver:20241117T093000
DTEND;TZID=America/Denver:20241117T093000
DTSTAMP:20260419T122015
CREATED:20241119T215215Z
LAST-MODIFIED:20241119T215221Z
UID:6374-1731835800-1731835800@goodshepsilver.org
SUMMARY:Children's Sunday School
DESCRIPTION:
URL:https://goodshepsilver.org/event/childrens-sunday-school-4/
CATEGORIES:Sunday School
END:VEVENT
BEGIN:VEVENT
DTSTART;TZID=America/Denver:20241110T113000
DTEND;TZID=America/Denver:20241110T113000
DTSTAMP:20260419T122015
CREATED:20241119T213911Z
LAST-MODIFIED:20241119T214225Z
UID:6352-1731238200-1731238200@goodshepsilver.org
SUMMARY:Adult Book Study
DESCRIPTION:
URL:https://goodshepsilver.org/event/adult-book-study-2/
CATEGORIES:Sunday School
END:VEVENT
BEGIN:VEVENT
DTSTART;TZID=America/Denver:20241110T093000
DTEND;TZID=America/Denver:20241110T093000
DTSTAMP:20260419T122015
CREATED:20241119T213841Z
LAST-MODIFIED:20241119T214257Z
UID:6350-1731231000-1731231000@goodshepsilver.org
SUMMARY:Children's Sunday School
DESCRIPTION:
URL:https://goodshepsilver.org/event/childrens-sunday-school-3/
CATEGORIES:Sunday School
END:VEVENT
BEGIN:VEVENT
DTSTART;TZID=America/Denver:20240225T093000
DTEND;TZID=America/Denver:20240225T103000
DTSTAMP:20260419T122015
CREATED:20240201T183253Z
LAST-MODIFIED:20240201T183253Z
UID:5957-1708853400-1708857000@goodshepsilver.org
SUMMARY:Children's Sunday School - ages 3 to 11
DESCRIPTION:
URL:https://goodshepsilver.org/event/childrens-sunday-school-ages-3-to-11-4/
LOCATION:Church of the Good Shepherd\, 615 N Texas Street\, Silver City\, NM\, 88062\, United States
CATEGORIES:Sunday School
END:VEVENT
BEGIN:VEVENT
DTSTART;TZID=America/Denver:20240218T093000
DTEND;TZID=America/Denver:20240218T103000
DTSTAMP:20260419T122015
CREATED:20240201T183158Z
LAST-MODIFIED:20240201T183158Z
UID:5955-1708248600-1708252200@goodshepsilver.org
SUMMARY:Children's Sunday School - ages 3 to 11
DESCRIPTION:
URL:https://goodshepsilver.org/event/childrens-sunday-school-ages-3-to-11-3/
LOCATION:Church of the Good Shepherd\, 615 N Texas Street\, Silver City\, NM\, 88062\, United States
CATEGORIES:Sunday School
END:VEVENT
BEGIN:VEVENT
DTSTART;TZID=America/Denver:20240211T093000
DTEND;TZID=America/Denver:20240211T103000
DTSTAMP:20260419T122015
CREATED:20240201T181046Z
LAST-MODIFIED:20240201T181238Z
UID:5932-1707643800-1707647400@goodshepsilver.org
SUMMARY:Children's Sunday School - ages 3 to 11
DESCRIPTION:
URL:https://goodshepsilver.org/event/childrens-sunday-school-ages-3-to-11/
LOCATION:Church of the Good Shepherd\, 615 N Texas Street\, Silver City\, NM\, 88062\, United States
CATEGORIES:Sunday School
END:VEVENT
BEGIN:VEVENT
DTSTART;TZID=America/Denver:20240204T093000
DTEND;TZID=America/Denver:20240204T103000
DTSTAMP:20260419T122015
CREATED:20240201T182735Z
LAST-MODIFIED:20240201T182735Z
UID:5953-1707039000-1707042600@goodshepsilver.org
SUMMARY:Children's Sunday School - ages 3 to 11
DESCRIPTION:
URL:https://goodshepsilver.org/event/childrens-sunday-school-ages-3-to-11-2/
LOCATION:Church of the Good Shepherd\, 615 N Texas Street\, Silver City\, NM\, 88062\, United States
CATEGORIES:Sunday School
END:VEVENT
END:VCALENDAR