BEGIN:VCALENDAR
VERSION:2.0
PRODID:-//Episcopal Church of the Good Shepherd - ECPv6.15.12.2//NONSGML v1.0//EN
CALSCALE:GREGORIAN
METHOD:PUBLISH
X-ORIGINAL-URL:https://goodshepsilver.org
X-WR-CALDESC:Events for Episcopal Church of the Good Shepherd
REFRESH-INTERVAL;VALUE=DURATION:PT1H
X-Robots-Tag:noindex
X-PUBLISHED-TTL:PT1H
BEGIN:VTIMEZONE
TZID:America/Denver
BEGIN:DAYLIGHT
TZOFFSETFROM:-0700
TZOFFSETTO:-0600
TZNAME:MDT
DTSTART:20230312T090000
END:DAYLIGHT
BEGIN:STANDARD
TZOFFSETFROM:-0600
TZOFFSETTO:-0700
TZNAME:MST
DTSTART:20231105T080000
END:STANDARD
BEGIN:DAYLIGHT
TZOFFSETFROM:-0700
TZOFFSETTO:-0600
TZNAME:MDT
DTSTART:20240310T090000
END:DAYLIGHT
BEGIN:STANDARD
TZOFFSETFROM:-0600
TZOFFSETTO:-0700
TZNAME:MST
DTSTART:20241103T080000
END:STANDARD
BEGIN:DAYLIGHT
TZOFFSETFROM:-0700
TZOFFSETTO:-0600
TZNAME:MDT
DTSTART:20250309T090000
END:DAYLIGHT
BEGIN:STANDARD
TZOFFSETFROM:-0600
TZOFFSETTO:-0700
TZNAME:MST
DTSTART:20251102T080000
END:STANDARD
END:VTIMEZONE
BEGIN:VEVENT
DTSTART;TZID=America/Denver:20241127T120500
DTEND;TZID=America/Denver:20241127T120500
DTSTAMP:20260419T121216
CREATED:20241119T232837Z
LAST-MODIFIED:20241119T232845Z
UID:6412-1732709100-1732709100@goodshepsilver.org
SUMMARY:Thanksgiving Service - Reception to Follow
DESCRIPTION:
URL:https://goodshepsilver.org/event/thanksgiving-service-reception-to-follow/
CATEGORIES:Services
END:VEVENT
BEGIN:VEVENT
DTSTART;TZID=America/Denver:20241124T093000
DTEND;TZID=America/Denver:20241124T093000
DTSTAMP:20260419T121216
CREATED:20241119T232037Z
LAST-MODIFIED:20241119T232208Z
UID:6400-1732440600-1732440600@goodshepsilver.org
SUMMARY:Holy Eucharist
DESCRIPTION:
URL:https://goodshepsilver.org/event/holy-eucharist-3/
CATEGORIES:Services
END:VEVENT
BEGIN:VEVENT
DTSTART;TZID=America/Denver:20241120T120500
DTEND;TZID=America/Denver:20241120T120500
DTSTAMP:20260419T121216
CREATED:20241119T231758Z
LAST-MODIFIED:20241119T231806Z
UID:6396-1732104300-1732104300@goodshepsilver.org
SUMMARY:Eucharist
DESCRIPTION:
URL:https://goodshepsilver.org/event/eucharist-3/
CATEGORIES:Services
END:VEVENT
BEGIN:VEVENT
DTSTART;TZID=America/Denver:20241117T093000
DTEND;TZID=America/Denver:20241117T093000
DTSTAMP:20260419T121216
CREATED:20241119T215131Z
LAST-MODIFIED:20241119T215138Z
UID:6372-1731835800-1731835800@goodshepsilver.org
SUMMARY:Holy Eucharist
DESCRIPTION:
URL:https://goodshepsilver.org/event/holy-eucharist-2/
CATEGORIES:Services
END:VEVENT
BEGIN:VEVENT
DTSTART;TZID=America/Denver:20241110T093000
DTEND;TZID=America/Denver:20241110T093000
DTSTAMP:20260419T121216
CREATED:20241119T213802Z
LAST-MODIFIED:20241119T214321Z
UID:6348-1731231000-1731231000@goodshepsilver.org
SUMMARY:Holy Eucharist
DESCRIPTION:
URL:https://goodshepsilver.org/event/holy-eucharist/
CATEGORIES:Services
END:VEVENT
BEGIN:VEVENT
DTSTART;TZID=America/Denver:20241103T093000
DTEND;TZID=America/Denver:20241103T093000
DTSTAMP:20260419T121216
CREATED:20241119T211928Z
LAST-MODIFIED:20241119T212052Z
UID:6324-1730626200-1730626200@goodshepsilver.org
SUMMARY:Holy Eucharist/All Saints Service
DESCRIPTION:
URL:https://goodshepsilver.org/event/holy-eucharist-all-saints-service/
CATEGORIES:Services
END:VEVENT
END:VCALENDAR