BEGIN:VCALENDAR
VERSION:2.0
PRODID:-//Episcopal Church of the Good Shepherd - ECPv6.15.12.2//NONSGML v1.0//EN
CALSCALE:GREGORIAN
METHOD:PUBLISH
X-ORIGINAL-URL:https://goodshepsilver.org
X-WR-CALDESC:Events for Episcopal Church of the Good Shepherd
REFRESH-INTERVAL;VALUE=DURATION:PT1H
X-Robots-Tag:noindex
X-PUBLISHED-TTL:PT1H
BEGIN:VTIMEZONE
TZID:America/Denver
BEGIN:DAYLIGHT
TZOFFSETFROM:-0700
TZOFFSETTO:-0600
TZNAME:MDT
DTSTART:20230312T090000
END:DAYLIGHT
BEGIN:STANDARD
TZOFFSETFROM:-0600
TZOFFSETTO:-0700
TZNAME:MST
DTSTART:20231105T080000
END:STANDARD
BEGIN:DAYLIGHT
TZOFFSETFROM:-0700
TZOFFSETTO:-0600
TZNAME:MDT
DTSTART:20240310T090000
END:DAYLIGHT
BEGIN:STANDARD
TZOFFSETFROM:-0600
TZOFFSETTO:-0700
TZNAME:MST
DTSTART:20241103T080000
END:STANDARD
BEGIN:DAYLIGHT
TZOFFSETFROM:-0700
TZOFFSETTO:-0600
TZNAME:MDT
DTSTART:20250309T090000
END:DAYLIGHT
BEGIN:STANDARD
TZOFFSETFROM:-0600
TZOFFSETTO:-0700
TZNAME:MST
DTSTART:20251102T080000
END:STANDARD
END:VTIMEZONE
BEGIN:VEVENT
DTSTART;TZID=America/Denver:20241128T171500
DTEND;TZID=America/Denver:20241128T171500
DTSTAMP:20260423T054648
CREATED:20241119T233000Z
LAST-MODIFIED:20241119T233011Z
UID:6414-1732814100-1732814100@goodshepsilver.org
SUMMARY:OEA
DESCRIPTION:
URL:https://goodshepsilver.org/event/oea-10/
CATEGORIES:Church Events
END:VEVENT
BEGIN:VEVENT
DTSTART;TZID=America/Denver:20241126T170000
DTEND;TZID=America/Denver:20241126T190000
DTSTAMP:20260423T054648
CREATED:20241119T232717Z
LAST-MODIFIED:20241119T232724Z
UID:6410-1732640400-1732647600@goodshepsilver.org
SUMMARY:CODA
DESCRIPTION:
URL:https://goodshepsilver.org/event/coda-10/
CATEGORIES:Church Events
END:VEVENT
BEGIN:VEVENT
DTSTART;TZID=America/Denver:20241121T171500
DTEND;TZID=America/Denver:20241121T171500
DTSTAMP:20260423T054648
CREATED:20241119T231917Z
LAST-MODIFIED:20241119T231924Z
UID:6398-1732209300-1732209300@goodshepsilver.org
SUMMARY:OEA
DESCRIPTION:
URL:https://goodshepsilver.org/event/oea-9/
CATEGORIES:Church Events
END:VEVENT
BEGIN:VEVENT
DTSTART;TZID=America/Denver:20241119T170000
DTEND;TZID=America/Denver:20241119T190000
DTSTAMP:20260423T054648
CREATED:20241119T231601Z
LAST-MODIFIED:20241119T231704Z
UID:6394-1732035600-1732042800@goodshepsilver.org
SUMMARY:CODA
DESCRIPTION:
URL:https://goodshepsilver.org/event/coda-9/
CATEGORIES:Church Events
END:VEVENT
BEGIN:VEVENT
DTSTART;TZID=America/Denver:20241117T150000
DTEND;TZID=America/Denver:20241117T150000
DTSTAMP:20260423T054648
CREATED:20241119T215348Z
LAST-MODIFIED:20241119T215354Z
UID:6378-1731855600-1731855600@goodshepsilver.org
SUMMARY:Fall Recital (Reception Following)
DESCRIPTION:
URL:https://goodshepsilver.org/event/fall-recital-reception-following/
CATEGORIES:Church Events
END:VEVENT
BEGIN:VEVENT
DTSTART;TZID=America/Denver:20241113T120500
DTEND;TZID=America/Denver:20241113T120500
DTSTAMP:20260423T054648
CREATED:20241119T214841Z
LAST-MODIFIED:20241119T214906Z
UID:6368-1731499500-1731499500@goodshepsilver.org
SUMMARY:Taize
DESCRIPTION:
URL:https://goodshepsilver.org/event/taize-2/
CATEGORIES:Church Events
END:VEVENT
BEGIN:VEVENT
DTSTART;TZID=America/Denver:20241113T100000
DTEND;TZID=America/Denver:20241113T100000
DTSTAMP:20260423T054648
CREATED:20241119T214652Z
LAST-MODIFIED:20241119T214756Z
UID:6366-1731492000-1731492000@goodshepsilver.org
SUMMARY:DOK
DESCRIPTION:
URL:https://goodshepsilver.org/event/dok-2/
CATEGORIES:Church Events
END:VEVENT
BEGIN:VEVENT
DTSTART;TZID=America/Denver:20241112T170000
DTEND;TZID=America/Denver:20241112T190000
DTSTAMP:20260423T054648
CREATED:20241119T214607Z
LAST-MODIFIED:20241119T214608Z
UID:6364-1731430800-1731438000@goodshepsilver.org
SUMMARY:CODA
DESCRIPTION:
URL:https://goodshepsilver.org/event/coda-8/
CATEGORIES:Church Events
END:VEVENT
BEGIN:VEVENT
DTSTART;TZID=America/Denver:20241108T000000
DTEND;TZID=America/Denver:20241109T000000
DTSTAMP:20260423T054648
CREATED:20241119T212814Z
LAST-MODIFIED:20241119T212814Z
UID:6342-1731024000-1731110400@goodshepsilver.org
SUMMARY:Diocesan Convention
DESCRIPTION:
URL:https://goodshepsilver.org/event/diocesan-convention/
CATEGORIES:Church Events
END:VEVENT
BEGIN:VEVENT
DTSTART;TZID=America/Denver:20241105T170000
DTEND;TZID=America/Denver:20241105T190000
DTSTAMP:20260423T054648
CREATED:20241119T212524Z
LAST-MODIFIED:20241119T212524Z
UID:6336-1730826000-1730833200@goodshepsilver.org
SUMMARY:CODA
DESCRIPTION:
URL:https://goodshepsilver.org/event/coda-7/
CATEGORIES:Church Events
END:VEVENT
BEGIN:VEVENT
DTSTART;TZID=America/Denver:20241102T150000
DTEND;TZID=America/Denver:20241102T160000
DTSTAMP:20260423T054648
CREATED:20241119T211711Z
LAST-MODIFIED:20241119T212120Z
UID:6322-1730559600-1730563200@goodshepsilver.org
SUMMARY:Choir Rehearsal
DESCRIPTION:
URL:https://goodshepsilver.org/event/choir-rehearsal-4/
CATEGORIES:Church Events
END:VEVENT
BEGIN:VEVENT
DTSTART;TZID=America/Denver:20241102T140000
DTEND;TZID=America/Denver:20241102T150000
DTSTAMP:20260423T054648
CREATED:20241119T211621Z
LAST-MODIFIED:20241119T211622Z
UID:6320-1730556000-1730559600@goodshepsilver.org
SUMMARY:Solo Rehearsal
DESCRIPTION:
URL:https://goodshepsilver.org/event/solo-rehearsal/
CATEGORIES:Church Events
END:VEVENT
BEGIN:VEVENT
DTSTART;TZID=America/Denver:20241102T090000
DTEND;TZID=America/Denver:20241102T160000
DTSTAMP:20260423T054648
CREATED:20241119T210744Z
LAST-MODIFIED:20241119T211307Z
UID:6310-1730538000-1730563200@goodshepsilver.org
SUMMARY:Holiday Church Bazaar
DESCRIPTION:
URL:https://goodshepsilver.org/event/holiday-church-bazaar/
CATEGORIES:Church Events
END:VEVENT
END:VCALENDAR